BEGIN:VCALENDAR
VERSION:2.0
PRODID:-//kingdomrootedcommunity - ECPv6.15.15//NONSGML v1.0//EN
CALSCALE:GREGORIAN
METHOD:PUBLISH
X-ORIGINAL-URL:https://kingdomrootedcommunity.org
X-WR-CALDESC:Events for kingdomrootedcommunity
REFRESH-INTERVAL;VALUE=DURATION:PT1H
X-Robots-Tag:noindex
X-PUBLISHED-TTL:PT1H
BEGIN:VTIMEZONE
TZID:UTC
BEGIN:STANDARD
TZOFFSETFROM:+0000
TZOFFSETTO:+0000
TZNAME:UTC
DTSTART:20250101T000000
END:STANDARD
END:VTIMEZONE
BEGIN:VEVENT
DTSTART;VALUE=DATE:20260711
DTEND;VALUE=DATE:20260712
DTSTAMP:20260417T204820
CREATED:20251204T092128Z
LAST-MODIFIED:20251204T104155Z
UID:19448-1783728000-1783814399@kingdomrootedcommunity.org
SUMMARY:Lithonia Health Fair & Fresh Produce Giveaway
DESCRIPTION:July 11 – Lithonia Health Fair & Fresh Produce Giveaway
URL:https://kingdomrootedcommunity.org/event/lithonia-health-fair-fresh-produce-giveaway/
ATTACH;FMTTYPE=image/png:https://kingdomrootedcommunity.org/wp-content/uploads/2025/12/Upcoming-Events.png
END:VEVENT
BEGIN:VEVENT
DTSTART;VALUE=DATE:20260718
DTEND;VALUE=DATE:20260719
DTSTAMP:20260417T204820
CREATED:20251204T105751Z
LAST-MODIFIED:20251204T105802Z
UID:19458-1784332800-1784419199@kingdomrootedcommunity.org
SUMMARY:Jacksonville Pop-Up Market
DESCRIPTION:July 18 – Jacksonville Pop-Up Market
URL:https://kingdomrootedcommunity.org/event/jacksonville-pop-up-market/
ATTACH;FMTTYPE=image/png:https://kingdomrootedcommunity.org/wp-content/uploads/2025/12/Upcoming-Events-1.png
END:VEVENT
END:VCALENDAR